BEGIN:VCALENDAR
VERSION:2.0
PRODID:-//日越ワールドメイト - ECPv6.11.2.1//NONSGML v1.0//EN
CALSCALE:GREGORIAN
METHOD:PUBLISH
X-WR-CALNAME:日越ワールドメイト
X-ORIGINAL-URL:http://nworldmate.org/ja/
X-WR-CALDESC:日越ワールドメイト のイベント
REFRESH-INTERVAL;VALUE=DURATION:PT1H
X-Robots-Tag:noindex
X-PUBLISHED-TTL:PT1H
BEGIN:VTIMEZONE
TZID:UTC
BEGIN:STANDARD
TZOFFSETFROM:+0000
TZOFFSETTO:+0000
TZNAME:UTC
DTSTART:20230101T000000
END:STANDARD
END:VTIMEZONE
BEGIN:VEVENT
DTSTART;TZID=UTC:20240607T080000
DTEND;TZID=UTC:20300607T170000
DTSTAMP:20260425T114302
CREATED:20240606T222538Z
LAST-MODIFIED:20240612T165359Z
UID:1028-1717747200-1907082000@nworldmate.org
SUMMARY:日本サッカー協会 第15代会長 宮本 恒靖 様 表敬訪問
DESCRIPTION:日本サッカー協会 第15代会長 宮本 恒靖 様 表敬訪問 \n日本サッカー協会（JFA）に宮本 恒靖 会長を表敬訪問いたしました。 \nユーン理事長がベトナム国立工業美術大学の記念品を贈呈し、 \n宮本会長からは、日本代表のユニホームを頂きました。 \n 
URL:http://nworldmate.org/ja/event/%e6%97%a5%e6%9c%ac%e3%82%b5%e3%83%83%e3%82%ab%e3%83%bc%e5%8d%94%e4%bc%9a-%e7%ac%ac15%e4%bb%a3%e4%bc%9a%e9%95%b7-%e5%ae%ae%e6%9c%ac-%e6%81%92%e9%9d%96-%e6%a7%98-%e8%a1%a8%e6%95%ac%e8%a8%aa%e5%95%8f/
CATEGORIES:Feature Homepage Event Top News
ATTACH;FMTTYPE=image/jpeg:http://nworldmate.org/wp-content/uploads/2024/06/imgpsh_fullsize_anim-1-e1745804956776.jpeg
END:VEVENT
BEGIN:VEVENT
DTSTART;TZID=UTC:20231011T080000
DTEND;TZID=UTC:20301011T170000
DTSTAMP:20260425T114302
CREATED:20231010T224617Z
LAST-MODIFIED:20240617T234717Z
UID:842-1697011200-1917968400@nworldmate.org
SUMMARY:2023年5月26日 NPO法人日越ワールドメイト報告書(磐田北小学校)
DESCRIPTION:NPO 法⼈⽇越ワールドメイト活動報告書\n磐田北小学校\n１ 日時：令和５年 ５ 月２６日（金）午後２時４５分～午後３時 ３０ 分 \n2 参加メンバー \n\n・NPO 法人日越ワールドメイト理事長\nグェン・ボ・フェン・ユーン\n・NPO 法人日越ワールドメイト理事\n越谷    勝治\n・ベトナムサッカー男子 U17 チーム \nチャン バン クイン団長\n・ベトナムサッカー男子 U17 チーム\nホアン アイン トアン監督\n・株式会社 KADOKAWA 執行役員 CPO\n青柳 昌行\n・静岡県教育委員会教育長\n池上 重弘\n・磐田市立磐田北小学校校長\n清水 孝彦\n・磐田市教育委員会教育長\n山本 敏治\n・磐田市教育委員会学校教育課主幹\n小澤 直輝\n・児童７名\n\n3 概要\nNPO 法人日越ワールドメイトは、6 月 19 日に伊豆の国市立韮山小学校で行った \n『ソンゴール！』贈呈セレモニーについてご報告させていただきます。 \n伊豆の国市立韮山小学校校長 久保田 徹也 様のご協力を得て『ソンゴール！』 \nベトナム語版をベトナムルーツの児童に贈呈いたしました。\n4 式次第 \n開式 \n１ NPO 法人日越ワールドメイト理事長挨拶 \n２ 浜松市教育委員会教育長挨拶 \n３ ベトナムサッカー男子 U17 チーム団長挨拶 \n４ ベトナムサッカー男子 U17 チーム監督挨拶 \n５ 静岡県教育委員会教育長あいさつ \n６ 「SON GOAL！第１巻」「サッカーチーム旗」贈呈 \n７ お礼の言葉 \n８ 感想発表 \n閉式 \n※歓談 \n 
URL:http://nworldmate.org/ja/event/2023%e5%b9%b45%e6%9c%8826%e6%97%a5-npo%e6%b3%95%e4%ba%ba%e6%97%a5%e8%b6%8a%e3%83%af%e3%83%bc%e3%83%ab%e3%83%89%e3%83%a1%e3%82%a4%e3%83%88%e5%a0%b1%e5%91%8a%e6%9b%b8%e7%a3%90%e7%94%b0%e5%8c%97/
END:VEVENT
BEGIN:VEVENT
DTSTART;TZID=UTC:20231011T080000
DTEND;TZID=UTC:20301011T170000
DTSTAMP:20260425T114302
CREATED:20231010T222250Z
LAST-MODIFIED:20240617T234621Z
UID:830-1697011200-1917968400@nworldmate.org
SUMMARY:2023年6月19日 NPO法人日越ワールドメイト報告書(韮山小学校)
DESCRIPTION:NPO 法⼈⽇越ワールドメイト活動報告書\n韮山小学校\n１ 日時：令和５年 ６月１９日（日）午後２時４５分～午後３時 ００分 \n2 参加メンバー \n\n\n    ・NPO 法人日越ワールドメイト理事長\n\n\n    グェン・ボ・フェン・ユーン\n\n\n    ・NPO 法人日越ワールドメイト理事\n\n\n    越谷    勝治\n\n\n    ・株式会社 KADOKAWA 執行役員 CPO\n\n\n    青柳    昌行\n\n\n    ・伊豆の国市立韮山小学校校長\n\n\n     久保田    徹也\n\n\n    ・伊豆の国市教育委員会職員\n\n\n     \n\n\n    ・児童 6 名 ※1 名欠席\n\n\n     \n\n\n3 概要\nNPO 法人日越ワールドメイトは、6 月 19 日に伊豆の国市立韮山小学校で行った \n『ソンゴール！』贈呈セレモニーについてご報告させていただきます。 \n伊豆の国市立韮山小学校校長 久保田 徹也 様のご協力を得て『ソンゴール！』 \nベトナム語版をベトナムルーツの児童に贈呈いたしました。\n4 式次第 \n開式 \n１ NPO 法人日越ワールドメイト理事長挨拶 \n２ 浜松市教育委員会教育長挨拶 \n３ 「SON GOAL！第１巻」「サッカーチーム旗」贈呈\n※理事長、執行役員から校長、児童へ贈呈\n４ 校長からお礼の言葉 \n５ 児童との記念撮影 \n６ 児童の感想 \n閉式 \n※児童との歓談
URL:http://nworldmate.org/ja/event/2023%e5%b9%b46%e6%9c%8819%e6%97%a5-npo%e6%b3%95%e4%ba%ba%e6%97%a5%e8%b6%8a%e3%83%af%e3%83%bc%e3%83%ab%e3%83%89%e3%83%a1%e3%82%a4%e3%83%88%e5%a0%b1%e5%91%8a%e6%9b%b8%e9%9f%ae%e5%b1%b1%e5%b0%8f/
END:VEVENT
BEGIN:VEVENT
DTSTART;TZID=UTC:20231011T080000
DTEND;TZID=UTC:20301011T170000
DTSTAMP:20260425T114302
CREATED:20231010T183651Z
LAST-MODIFIED:20240614T181640Z
UID:814-1697011200-1917968400@nworldmate.org
SUMMARY:2023年7月10日 NPO法人日越ワールドメイト報告書(相生小学校)
DESCRIPTION:NPO 法⼈⽇越ワールドメイト活動報告書\n相生小学校\n1 日時：令和５年 7 月 10 日（月）午後 1 時 00 分～午後 2 時 00 分 \n2 参加メンバー \n\n\n    ・NPO 法人日越ワールドメイト理事長\n\n\n    グェン・ボ・フェン・ユーン\n\n\n    ・NPO 法人日越ワールドメイト理事\n\n\n    越谷  勝治\n\n\n    ・浜松市教育委員会教育長\n\n\n    宮崎  正  様\n\n\n    ・浜松市立相生小学校校長\n\n\n\n    ・浜松市教育委員会教育施設課 教材グループ\n\n\n    小澤 様\n\n\n    ・浜松市教育委員会教育施設課 教材グループ\n\n\n    鈴木 様\n\n\n    ・児童\n\n\n     \n\n\n3 概要\nNPO 法人日越ワールドメイトは、7月 10日に伊豆の国市立韮山小学校で行った \n『ソンゴール！』贈呈セレモニーについてご報告させていただきます。 \n浜松市教育委員会教育 宮崎 正 様のご協力を得て『ソンゴール！』ベトナム語版を \nベトナムルーツの児童に贈呈いたしました。 \n4 式次第 \n開式 \n１ NPO 法人日越ワールドメイト理事長挨拶 \n２ 浜松市教育委員会教育長挨拶 \n３ 「SON GOAL！第１巻」「サッカーチーム旗」贈呈 \n※理事長、執行役員から校長、児童へ贈呈 \n４ 校長からお礼の言葉 \n５ 児童との記念撮影 \n６ 児童の感想 \n閉式 \n※児童との歓談 \n 
URL:http://nworldmate.org/ja/event/2023%e5%b9%b47%e6%9c%8810%e6%97%a5-npo%e6%b3%95%e4%ba%ba%e6%97%a5%e8%b6%8a%e3%83%af%e3%83%bc%e3%83%ab%e3%83%89%e3%83%a1%e3%82%a4%e3%83%88%e5%a0%b1%e5%91%8a%e6%9b%b8%e7%9b%b8%e7%94%9f%e5%b0%8f/
END:VEVENT
END:VCALENDAR